BEGIN:VCALENDAR
VERSION:2.0
PRODID:-//Lung Connect - ECPv6.15.13.1//NONSGML v1.0//EN
CALSCALE:GREGORIAN
METHOD:PUBLISH
X-ORIGINAL-URL:https://lungconnectindia.org
X-WR-CALDESC:Events for Lung Connect
REFRESH-INTERVAL;VALUE=DURATION:PT1H
X-Robots-Tag:noindex
X-PUBLISHED-TTL:PT1H
BEGIN:VTIMEZONE
TZID:Asia/Kolkata
BEGIN:STANDARD
TZOFFSETFROM:+0530
TZOFFSETTO:+0530
TZNAME:IST
DTSTART:20250101T000000
END:STANDARD
END:VTIMEZONE
BEGIN:VEVENT
DTSTART;TZID=Asia/Kolkata:20260605T080000
DTEND;TZID=Asia/Kolkata:20260605T170000
DTSTAMP:20260421T185820
CREATED:20260221T065515Z
LAST-MODIFIED:20260221T065515Z
UID:6208-1780646400-1780678800@lungconnectindia.org
SUMMARY:Team Meeting 1
DESCRIPTION:Team Meeting 1
URL:https://lungconnectindia.org/event/team-meeting-1-2/
LOCATION:Lung Connect
CATEGORIES:Team Meeting 1
ORGANIZER;CN="Lung Connect":MAILTO:contact@lungconnectindia.org
END:VEVENT
BEGIN:VEVENT
DTSTART;TZID=Asia/Kolkata:20260612T080000
DTEND;TZID=Asia/Kolkata:20260612T170000
DTSTAMP:20260421T185820
CREATED:20260221T065607Z
LAST-MODIFIED:20260221T065607Z
UID:6210-1781251200-1781283600@lungconnectindia.org
SUMMARY:Support Group Meeting
DESCRIPTION:Mumbai
URL:https://lungconnectindia.org/event/support-group-meeting-70/
LOCATION:Lung Connect
CATEGORIES:Mumbai
ORGANIZER;CN="Lung Connect":MAILTO:contact@lungconnectindia.org
END:VEVENT
BEGIN:VEVENT
DTSTART;TZID=Asia/Kolkata:20260617T080000
DTEND;TZID=Asia/Kolkata:20260617T170000
DTSTAMP:20260421T185820
CREATED:20260221T065708Z
LAST-MODIFIED:20260221T065708Z
UID:6212-1781683200-1781715600@lungconnectindia.org
SUMMARY:Support Group Meeting
DESCRIPTION:UP-Bihar
URL:https://lungconnectindia.org/event/support-group-meeting-71/
LOCATION:Lung Connect
CATEGORIES:UP-Bihar
ORGANIZER;CN="Lung Connect":MAILTO:contact@lungconnectindia.org
END:VEVENT
BEGIN:VEVENT
DTSTART;TZID=Asia/Kolkata:20260619T080000
DTEND;TZID=Asia/Kolkata:20260619T170000
DTSTAMP:20260421T185820
CREATED:20260221T065806Z
LAST-MODIFIED:20260221T065806Z
UID:6214-1781856000-1781888400@lungconnectindia.org
SUMMARY:Geriatric OPD Support Group Meeting Team Meeting 2
DESCRIPTION:Geriatric OPD Support Group Meeting\nTeam Meeting 2
URL:https://lungconnectindia.org/event/geriatric-opd-support-group-meeting-team-meeting-2-4/
LOCATION:Lung Connect
CATEGORIES:Geriatric OPD Support Group Meeting Team Meeting 2
ORGANIZER;CN="Lung Connect":MAILTO:contact@lungconnectindia.org
END:VEVENT
BEGIN:VEVENT
DTSTART;TZID=Asia/Kolkata:20260626T080000
DTEND;TZID=Asia/Kolkata:20260626T170000
DTSTAMP:20260421T185820
CREATED:20260221T065903Z
LAST-MODIFIED:20260221T065903Z
UID:6216-1782460800-1782493200@lungconnectindia.org
SUMMARY:Support Group Meeting
DESCRIPTION:Gujarat\nMuharram
URL:https://lungconnectindia.org/event/support-group-meeting-72/
LOCATION:Lung Connect
CATEGORIES:Gujarat
ORGANIZER;CN="Lung Connect":MAILTO:contact@lungconnectindia.org
END:VEVENT
END:VCALENDAR